BEGIN:VCALENDAR
VERSION:2.0
PRODID:-//PCLions//Events//EN
CALSCALE:GREGORIAN
METHOD:PUBLISH
BEGIN:VEVENT
UID:event-2464@pclions.com
DTSTAMP:20260420T161328Z
DTSTART;TZID=America/New_York:20260508T170000
DTEND;TZID=America/New_York:00020508T200000
SUMMARY:Welcome Reception
DESCRIPTION:Welcome to Reunion Weekend! Join us to kickoff festivities at Candler Library\, 2nd Floor.
URL:https://paine.edu/events/welcome-reception/
END:VEVENT
END:VCALENDAR
