BEGIN:VCALENDAR
VERSION:2.0
PRODID:-//PCLions//Events//EN
CALSCALE:GREGORIAN
METHOD:PUBLISH
BEGIN:VEVENT
UID:event-2465@pclions.com
DTSTAMP:20260420T161330Z
DTSTART;TZID=America/New_York:20260508T110000
DTEND;TZID=America/New_York:20260508T120000
SUMMARY:Golden Agers Induction Ceremony
DESCRIPTION:Presidential Commencement Luncheon (Golden Agers Induction Ceremony) Location: Candler Library 2nd Floor
URL:https://paine.edu/events/golden-agers-induction-ceremony/
END:VEVENT
END:VCALENDAR
