BEGIN:VCALENDAR
VERSION:2.0
PRODID:-//PCLions//Events//EN
CALSCALE:GREGORIAN
METHOD:PUBLISH
BEGIN:VEVENT
UID:event-2467@pclions.com
DTSTAMP:20260421T162636Z
DTSTART;TZID=America/New_York:20260508T180000
DTEND;TZID=America/New_York:00020508T200000
SUMMARY:Major Donor Recognition
DESCRIPTION:Invitation Only. Cocktail Attire
LOCATION:Pinnacle Club
URL:https://paine.edu/events/major-donor-recognition/
END:VEVENT
END:VCALENDAR
