BEGIN:VCALENDAR
VERSION:2.0
PRODID:-//PCLions//Events//EN
CALSCALE:GREGORIAN
METHOD:PUBLISH
BEGIN:VEVENT
UID:event-2469@pclions.com
DTSTAMP:20260421T184420Z
DTSTART;TZID=America/New_York:20260509T113000
DTEND;TZID=America/New_York:20260509T123000
SUMMARY:Distribution of Degrees
DESCRIPTION:Location: HEAL Complex Large Classroom
LOCATION:HEAL Complex\, 1255 Druid Park Ave\, Augusta\, GA 30904
URL:https://paine.edu/events/distribution-of-degrees/
END:VEVENT
END:VCALENDAR
