BEGIN:VCALENDAR
VERSION:2.0
PRODID:-//PCLions//Events//EN
CALSCALE:GREGORIAN
METHOD:PUBLISH
BEGIN:VEVENT
UID:event-2470@pclions.com
DTSTAMP:20260423T053834Z
DTSTART;TZID=America/New_York:20260509T130000
DTEND;TZID=America/New_York:20260509T150000
SUMMARY:College Cook Out
DESCRIPTION:Location: Peters Campus Center Veranda &amp\; Grounds
URL:https://paine.edu/events/college-cook-out/
END:VEVENT
END:VCALENDAR
